Workbook

Sheet Saisie producteur
B1: Données de base de l'exploitation | C1: Unité | D1: Données
B2: Nom de l'exploitation
B3: Période considérée pour la moyenne des données entrées (20xx à 20xx)
B4: Surface exploitée | C4: ha
B5: Rendement moyen | C5: kg/ha
A7: EMISSIONS | B7: Sources d'émissions | C7: Unité | D7: Données
B8: Quantité d'azote minéral | C8: U N/ha
B9: Quantité d'azote organique | C9: U N/ha
B10: Consommation carburant : essence | C10: L/an
B11: Consommation carburant : diesel | C11: L/an
B12: Nombre moyen de traitements | C12: nb / an | J12: 2
B13: Nombre moyen de produits commerciaux utilisés par application (y compris stimulateurs de défenses naturelles, mouillants) | C13: nb | J13: 3
B14: Traitements effectués uniquement avec des produits biologiques? | C14: oui/non/bio après fleur | J14: 4
B15: Utilisation d'herbicide | C15: oui/non
B16: Nombre d'applications d'herbicides/an | C16: nb
B17: Total estimé des émissions annuelles pour l'exploitation | C17: kgCO₂e/exploit. | D17: ='Feuille de calculs'!I2 -> 0 | E17: *
B18: Total estimé des émissions annuelles par ha | C18: kgCO₂e/ha | D18: ='Feuille de calculs'!H2 -> 0 | E18: *
B19: Total estimé des émissions annuelles par kg | C19: kgCO₂e/kg | D19: =IFERROR(D17/D5*D4,"-") -> - | E19: *
A20: * Il s'agit d'une estimation basée sur des références moyennes et le résultat ne doit pas être considéré comme un résultat réel. Pour plus de précisions, utiliser l'outil Ges&Vit de l'IFV qui est le plus adapté à la prodution viticole.
A22: STOCKAGE | B22: Sources de stockage | C22: Unité | D22: Données
B23: Taux moyen d'enherbement | C23: %
B24: Amendement | C24: BRF/compost/fumier | J24: BRF | K24: 0.3
B25: Quantité d'amendement | C25: t/ha | J25: Compost | K25: 0.7
B26: Broyage des sarments | C26: oui/non | J26: Fumier | K26: 1
B27: Total estimé du stockage annuel pour l'exploitation | C27: kgCO₂e/exploit. | D27: =IFERROR('Feuille de calculs'!L2*'Feuille de calculs'!B2,"-") -> - | E27: **
B28: Total estimé du stockage annuel par ha | C28: kgCO₂e/ha | D28: =IFERROR('Feuille de calculs'!L2,"-") -> - | E28: **
B29: Total estimé du stockage annuel par kg | C29: kgCO₂e/kg | D29: =IFERROR(D27/(D5*D4),"-") -> - | E29: **
A30: ** L'estimation du stockage de carbone sans analyse préalable des caractéristiques du sol (taux d'argile, porosité, taux de matière organique, etc.) fournit un résultat très approximatif. Il n'est pas possible de généraliser le stockage du carbone sans tenir compte de ces paramètres. Le calcul ci-dessus se base sur un sol "modèle" et surestime probablement la quantité de carbone stockée. Pour plus de précisions, utiliser l'outil Ges&Vit de l'IFV qui est le plus adapté à la prodution viticole.
A32: BILAN | B32: Bilan carbone de l'exploitation
B33: Total estimé "net" pour l'exploitation | C33: kgCO₂e/exploit. | D33: =IFERROR(D17+D27,"-") -> - | J33: oui
B34: Total estimé "net" par ha | C34: kgCO₂e/ha | D34: =IFERROR(D18+D28,"-") -> - | J34: non
B35: Total estimé "net" par kg de raisin produit | C35: kgCO₂e/kg | D35: =IFERROR(D33/('Feuille de calculs'!B2*'Feuille de calculs'!C2),"-") -> - | J35: bio après fleur
A38: © Un outil mis au point par VITIplus, pour le projet VIN SUISSE DURABLE de VITISWISS (06/2026). Usage réservé aux adhérents de la démarche.

Sheet Facteurs d'émissions
A1: Facteurs d'émissions directes
A2: Poste | B2: Unité intrant | C2: FE | D2: Unité FE
A3: Essence | B3: L/an | C3: 2.6 | D3: kgCO₂e/L
A4: Diesel | B4: L/an | C4: 3.17 | D4: kgCO₂e/L
A5: Engrais minéral | B5: U/ha | C5: 14 | D5: kgCO₂e/t
A6: Engrais organique | B6: U/ha | C6: -25 | D6: kgCO₂e/t
A7: BRF | B7: t/an | C7: -283 | D7: kgCO₂e/t
A8: Compost | B8: t/an | C8: 518 | D8: kgCO₂e/t
A9: Fumier | B9: t/an | C9: -79 | D9: kgCO₂e/t
A10: PPh par application | B10: bio | C10: 2.1 | D10: kgCO₂e/app
B11: bio après fleur | C11: 7 | D11: kgCO₂e/app
B12: non bio | C12: 10 | D12: kgCO₂e/app
A13: Enherbement | B13: 0.3 | C13: -217 | D13: kgCO₂e/ha
B14: 0.7 | C14: -507 | D14: kgCO₂e/ha
B15: 1 | C15: -724 | D15: kgCO₂e/ha
A16: Herbicide | B16: kg/an | C16: 7 | D16: kgCO₂e/kg
A17: Broyage + retour parties vertes | C17: =-562+-257 -> -819 | D17: kgCO₂e/ha

Sheet Feuille de calculs
A1: Producteur | B1: Surface exploit. | C1: Rendements | D1: Azote | E1: Essence | F1: Diesel | G1: Sustances actives | H1: Tot émisions annuelles par ha | I1: Tot pour l'exploitation | J1: Enherbement | K1: Amendement | L1: Stockage principal | M1: Emission de l'exploit./ha | N1: Stockage sarments
A2: ='Saisie producteur'!D2 -> 0 | B2: ='Saisie producteur'!D4 -> 0 | C2: ='Saisie producteur'!D5 -> 0 | D2: =('Saisie producteur'!D8*'Facteurs d''émissions'!C5)+('Facteurs d''émissions'!C6*'Saisie producteur'!D9) -> 0 | E2: ='Saisie producteur'!D10*'Facteurs d''émissions'!$C$3 -> 0 | F2: ='Saisie producteur'!D11*'Facteurs d''émissions'!$C$4 -> 0 | G2: =IF('Saisie producteur'!D14="oui",'Facteurs d''émissions'!C10*'Saisie producteur'!D12*'Saisie producteur'!D13,(IF('Saisie producteur'!D14="non",'Facteurs d''émissions'!C12*'Saisie producteur'!D12*'Saisie producteur'!D13,'Saisie producteur'!D12*'Saisie producteur'!D13*'Facteurs d''émissions'!C11)))+IF('Saisie producteur'!D15="oui",'Saisie producteur'!D16*'Facteurs d''émissions'!C16,0) -> 0 | H2: =SUM(D2+E2+G2+F2) -> 0 | I2: =H2*B2 -> 0 | J2: =IF('Saisie producteur'!D23=0.3,'Facteurs d''émissions'!C13,IF('Saisie producteur'!D23=0.7,'Facteurs d''émissions'!C14,IF('Saisie producteur'!D23=1,'Facteurs d''émissions'!C15,""))) | K2: =IF('Saisie producteur'!D24="BRF",'Facteurs d''émissions'!C7*'Saisie producteur'!D25,IF('Saisie producteur'!D24="Compost",'Facteurs d''émissions'!C8*'Saisie producteur'!D25,IF('Saisie producteur'!D24="Fumier",'Facteurs d''émissions'!C9*'Saisie producteur'!D25))) -> FALSE | L2: =J2+K2+N2 -> #VALUE! | M2: =L2/B2 -> #VALUE! | N2: =(IF('Saisie producteur'!D26="oui",'Facteurs d''émissions'!C17,0)) -> 0
A5: Poste | D5: Emission | E5: Négatif
A6: Carburant | B6: =E2+F2 -> 0 | C6: {=B6/SUMPRODUCT(ABS($B$6:$B$11))} -> #VALUE! | D6: =IF(C6>0,C6,NA()) -> #VALUE! | E6: =IF(C6<0,C6,NA()) -> #VALUE!
A7: Traitements | B7: =G2 -> 0 | C7: {=B7/SUMPRODUCT(ABS($B$6:$B$11))} -> #VALUE! | D7: =IF(C7>0,C7,NA()) -> #VALUE! | E7: =IF(C7<0,C7,NA()) -> #VALUE!
A8: Apports en azote | B8: =D2 -> 0 | C8: {=B8/SUMPRODUCT(ABS($B$6:$B$11))} -> #VALUE! | D8: =IF(C8>0,C8,NA()) -> #VALUE! | E8: =IF(C8<0,C8,NA()) -> #VALUE!
A9: Enherbement | B9: =J2 | C9: {=B9/SUMPRODUCT(ABS($B$6:$B$11))} -> #VALUE! | D9: =IF(C9>0,C9,NA()) -> #VALUE! | E9: =IF(C9<0,C9,NA()) -> #VALUE!
A10: Amendement | B10: =K2 -> FALSE | C10: {=B10/SUMPRODUCT(ABS($B$6:$B$11))} -> #VALUE! | D10: =IF(C10>0,C10,NA()) -> #VALUE! | E10: =IF(C10<0,C10,NA()) -> #VALUE!
A11: Stockage lié aux parties vertes | B11: =N2 -> 0 | C11: {=B11/SUMPRODUCT(ABS($B$6:$B$11))} -> #VALUE! | D11: =IF(C11>0,C11,NA()) -> #VALUE! | E11: =IF(C11<0,C11,NA()) -> #VALUE!

Sheet Graphiques
A1: Poste | B1: Unité intrant | C1: FE | D1: Unité FE | E1: Part (%)
A2: Essence | B2: L/an | C2: 2.6 | D2: kgCO₂e/L | E2: =(C2/C9) -> 0.056681927
A3: Diesel | B3: L/an | C3: 3.17 | D3: kgCO₂e/L | E3: =(C3/C9) -> 0.06910835
A4: Engrais minéral | B4: U/ha | C4: 14 | D4: kgCO₂e/t | E4: =(C4/C9) -> 0.30521038
A5: PPh par application (bio) | B5: bio | C5: 2.1 | D5: kgCO₂e/app | E5: =(C5/C9) -> 0.045781557
A6: PPh par application (bio après fleur) | B6: bio après fleur | C6: 7 | D6: kgCO₂e/app | E6: =(C6/C9) -> 0.15260519
A7: PPh par application (non bio) | B7: non bio | C7: 10 | D7: kgCO₂e/app | E7: =(C7/C9) -> 0.21800741
A8: Herbicide | B8: kg/an | C8: 7 | D8: kgCO₂e/kg | E8: =(C8/C9) -> 0.15260519
A9: Somme des FE | C9: =SUM(C2:C8) -> 45.87
A14: Poste | B14: Unité intrant | C14: FE | D14: Unité FE | E14: Part (%)
A15: Engrais organique | B15: U/ha | C15: -25 | D15: kgCO₂e/t | E15: =-(C15/C22) -> -0.0094197438
A16: BRF | B16: t/an | C16: -283 | D16: kgCO₂e/t | E16: =-(C16/C22) -> -0.1066315
A17: Fumier | B17: t/an | C17: -79 | D17: kgCO₂e/t | E17: =-(C17/C22) -> -0.02976639
A18: Enherbement (30%) | B18: 0.3 | C18: -217 | D18: kgCO₂e/ha | E18: =-(C18/C22) -> -0.081763376
A19: Enherbement (70%) | B19: 0.7 | C19: -507 | D19: kgCO₂e/ha | E19: =-(C19/C22) -> -0.1910324
A20: Enherbement (100%) | B20: 1 | C20: -724 | D20: kgCO₂e/ha | E20: =-(C20/C22) -> -0.27279578
A21: Broyage + retour parties vertes | C21: =-562+-257 -> -819 | D21: kgCO₂e/ha | E21: =-(C21/C22) -> -0.30859081
A22: Somme des FE | C22: =SUM(C15:C21) -> -2654
A26: Poste | B26: Part (%)
A27: Essence | B27: 0.06
A28: Diesel | B28: 0.07
A29: Engrais minéral | B29: 0.31
A30: PPh bio | B30: 0.05
A31: PPh bio après fleur | B31: 0.15
A32: PPh non bio | B32: 0.22
A33: Herbicide | B33: 0.15
A34: Engrais organique | B34: -0.01
A35: BRF | B35: -0.11
A36: Fumier | B36: -0.03
A37: Enherbement 30% | B37: -0.08
A38: Enherbement 70% | B38: -0.19
... A40: Broyage + retour parties vertes | B40: -0.31
